BEGIN:VCALENDAR
VERSION:2.0
PRODID:-//wp-events-plugin.com//7.2.3.1//EN
BEGIN:VEVENT
UID:914@brcv-rodgun.com
DTSTART;TZID=America/New_York:20200303T180000
DTEND;TZID=America/New_York:20200303T200000
DTSTAMP:20251209T102633Z
URL:https://brcv-rodgun.com/events/air-pistol-2020-01-21-2020-01-28-2020-0
 2-04-2020-02-11-2020-02-18-2020-02-25-2020-03-03/
SUMMARY:Air Pistol
DESCRIPTION:Tuesday Evening's - Air Pistol in Clubhouse
CATEGORIES:Match,Open to the public
LOCATION:Blue Ridge Cherry Valley Rod & Gun Club\, 2178 Smith Road\, Sciota
 \, PA\, 18354\, NE PA\, United States
X-APPLE-STRUCTURED-LOCATION;VALUE=URI;X-ADDRESS=2178 Smith Road\, Sciota\, 
 PA\, 18354\, NE PA\, United States;X-APPLE-RADIUS=100;X-TITLE=Blue Ridge C
 herry Valley Rod & Gun Club:geo:0,0
END:VEVENT
BEGIN:VTIMEZONE
TZID:America/New_York
X-LIC-LOCATION:America/New_York
BEGIN:STANDARD
DTSTART:20191103T010000
TZOFFSETFROM:-0400
TZOFFSETTO:-0500
TZNAME:EST
END:STANDARD
END:VTIMEZONE
END:VCALENDAR